BEGIN:VCALENDAR
VERSION:2.0
PRODID:-// - ECPv3.11.2//NONSGML v1.0//EN
CALSCALE:GREGORIAN
METHOD:PUBLISH
X-WR-CALNAME:
X-ORIGINAL-URL:https://www.cein.eu
X-WR-CALDESC:Events for 
BEGIN:VEVENT
DTSTART:20160101T000000Z
DTEND:20501231T110000Z
DTSTAMP:20260420T100950Z
CREATED:20151126T132844Z
LAST-MODIFIED:20240208T123958Z
UID:13778-1451606400-2556097200@www.cein.eu
SUMMARY:Convocatorias Cambridge KET (Nivel A2)
DESCRIPTION:\n[mostrar_examenes tipo_examen="KET"]\n\n[button color="orange" size="large" href="https://www.cein.eu/examen/cambridge-ket-a2/" align="center"]INFORMACIÓN SOBRE EL EXAMEN KET[/button]
URL:https://www.cein.eu/convocatorias-examenes/cambridge-ket-a2/
CATEGORIES:Convocatorias
ATTACH;FMTTYPE=image/jpeg:https://www.cein.eu/wp-content/uploads/2015/11/KET4-300x219-1.jpg
END:VEVENT
BEGIN:VEVENT
DTSTART:20160101T000000Z
DTEND:20501231T110000Z
DTSTAMP:20260420T100950Z
CREATED:20151126T135525Z
LAST-MODIFIED:20240208T124024Z
UID:13781-1451606400-2556097200@www.cein.eu
SUMMARY:Convocatorias Cambridge KET for Schools (Nivel A2)
DESCRIPTION:\n\n[mostrar_examenes tipo_examen="KETfs"]\n\n[button color="orange" size="large" href="https://www.cein.eu/examen/cambridge-ket-for-schools-a2/" align="center"]INFORMACIÓN SOBRE EL EXAMEN KET for Schools[/button]
URL:https://www.cein.eu/convocatorias-examenes/cambridge-ket-for-schools-a2/
CATEGORIES:Convocatorias
ATTACH;FMTTYPE=image/jpeg:https://www.cein.eu/wp-content/uploads/2015/11/KET-for-Schools-300x219-1.jpg
END:VEVENT
BEGIN:VEVENT
DTSTART:20160101T000000Z
DTEND:20501231T110000Z
DTSTAMP:20260420T100950Z
CREATED:20151126T140518Z
LAST-MODIFIED:20240208T124053Z
UID:13782-1451606400-2556097200@www.cein.eu
SUMMARY:Convocatorias Cambridge PET (Nivel B1)
DESCRIPTION:\n[mostrar_examenes tipo_examen="PET"]\n\n[button color="orange" size="large" href="https://www.cein.eu/examen/cambridge-pet-b1/" align="center"]INFORMACIÓN SOBRE EL EXAMEN PET[/button]
URL:https://www.cein.eu/convocatorias-examenes/cambridge-pet-b1/
CATEGORIES:Convocatorias
ATTACH;FMTTYPE=image/jpeg:https://www.cein.eu/wp-content/uploads/2015/11/PET2-300x219-1.jpg
END:VEVENT
BEGIN:VEVENT
DTSTART:20160101T000000Z
DTEND:20501231T110000Z
DTSTAMP:20260420T100950Z
CREATED:20151126T142226Z
LAST-MODIFIED:20240208T124102Z
UID:13783-1451606400-2556097200@www.cein.eu
SUMMARY:Convocatorias Cambridge PET for Schools (Nivel B1)
DESCRIPTION:\n\n[mostrar_examenes tipo_examen="PETfs"]\n\n[button color="orange" size="large" href="https://www.cein.eu/examen/cambridge-pet-for-schools-b1/" align="center"]INFORMACIÓN SOBRE EL EXAMEN PET for Schools[/button]
URL:https://www.cein.eu/convocatorias-examenes/cambridge-pet-for-schools-b1/
CATEGORIES:Convocatorias
ATTACH;FMTTYPE=image/jpeg:https://www.cein.eu/wp-content/uploads/2015/11/PET-for-schools-300x219-1.jpg
END:VEVENT
BEGIN:VEVENT
DTSTART:20160101T070000Z
DTEND:20501231T160000Z
DTSTAMP:20260420T100950Z
CREATED:20151215T095934Z
LAST-MODIFIED:20240208T124109Z
UID:14129-1451631600-2556115200@www.cein.eu
SUMMARY:Convocatorias Cambridge FCE (Nivel B2)
DESCRIPTION:\n[mostrar_examenes tipo_examen="FCE"]\n\n[button color="orange" size="large" href="https://www.cein.eu/examen/cambridge-fce-b2/" align="center"]INFORMACIÓN SOBRE EL EXAMEN FCE[/button]
URL:https://www.cein.eu/convocatorias-examenes/cambridge-fce-b2/
ATTACH;FMTTYPE=image/jpeg:https://www.cein.eu/wp-content/uploads/2015/12/FCE1-300x219-1.jpg
END:VEVENT
BEGIN:VEVENT
DTSTART:20160101T070000Z
DTEND:20501231T160000Z
DTSTAMP:20260420T100950Z
CREATED:20151215T100838Z
LAST-MODIFIED:20240208T124116Z
UID:14130-1451631600-2556115200@www.cein.eu
SUMMARY:Convocatorias Cambridge FCE for Schools (Nivel B2)
DESCRIPTION:\n\n[mostrar_examenes tipo_examen="FCEfs"]\n\n[button color="orange" size="large" href="https://www.cein.eu/examen/cambridge-first-certificate-in-english-for-schools-fcefsb2/" align="center"]INFORMACIÓN SOBRE EL EXAMEN FCE for Schools[/button]
URL:https://www.cein.eu/convocatorias-examenes/cambridge-fce-for-schools-b2/
ATTACH;FMTTYPE=image/jpeg:https://www.cein.eu/wp-content/uploads/2015/12/FIRST-for-schools-300x219-1.jpg
END:VEVENT
BEGIN:VEVENT
DTSTART:20160101T070000Z
DTEND:20501231T160000Z
DTSTAMP:20260420T100950Z
CREATED:20151215T101755Z
LAST-MODIFIED:20240208T124123Z
UID:14132-1451631600-2556115200@www.cein.eu
SUMMARY:Convocatorias Cambridge CAE (Nivel C1)
DESCRIPTION:\n[mostrar_examenes tipo_examen="CAE"]\n[button color="orange" size="large" href="https://www.cein.eu/examen/cambridge-cae-c1/" align="center"]INFORMACIÓN SOBRE EL EXAMEN CAE[/button]
URL:https://www.cein.eu/convocatorias-examenes/cambridge-cae-c1/
CATEGORIES:Convocatorias
ATTACH;FMTTYPE=image/jpeg:https://www.cein.eu/wp-content/uploads/2015/12/CAE1-300x219-1.jpg
END:VEVENT
BEGIN:VEVENT
DTSTART:20160101T070000Z
DTEND:20501231T160000Z
DTSTAMP:20260420T100950Z
CREATED:20151215T102752Z
LAST-MODIFIED:20180208T173253Z
UID:14136-1451631600-2556115200@www.cein.eu
SUMMARY:Convocatorias Cambridge YLE
DESCRIPTION:\n\nAntes de matricularte en alguno de los exámenes YLE te recomendamos que leas estas recomendaciones: DESCARGAR RECOMENDACIONES DEL EXAMEN\n\n \nYLE Starters\n \n\n\n[mostrar_examenes tipo_examen="YLE Starters"]\n\n \nYLE Movers\n \n\n[mostrar_examenes tipo_examen="YLE Movers"]\n\n \nYLE Flyers\n \n\n[mostrar_examenes tipo_examen="YLE Flyers"]\n\nColaboramos con colegios y academias para realizar los exámenes de YLE (Cambridge Young Learners English Test)\, pruebas diseñadas para niños de entre 7 y 12 años\, que se celebran el los propios centros interesados\, con la finalidad de que los niños estén más cómodos.\n\nPara organizar estos tipos de examenes en su centro\, es necesario comunicarlo con al menos 7 semanas de antelación con respeto a la fecha en la que quiere establecer las pruebas.\n\n \n\n[button color="orange" size="large" href="https://www.cein.eu/examenes/cambridge-ingles-adolescentes-ninos/" align="center"]INFORMACIÓN SOBRE LOS EXÁMENES YLE[/button]
URL:https://www.cein.eu/convocatorias-examenes/cambridge-yle/
CATEGORIES:Convocatorias
ATTACH;FMTTYPE=image/png:https://www.cein.eu/wp-content/uploads/2015/12/YLE2.png
END:VEVENT
BEGIN:VEVENT
DTSTART:20160101T070000Z
DTEND:20501231T160000Z
DTSTAMP:20260420T100950Z
CREATED:20151215T102101Z
LAST-MODIFIED:20240208T124140Z
UID:14133-1451631600-2556115200@www.cein.eu
SUMMARY:Convocatorias Cambridge CPE (Nivel C2)
DESCRIPTION:\n[mostrar_examenes tipo_examen="CPE"]\n[button color="orange" size="large" href="https://www.cein.eu/examen/cambridge-cpe-c2/" align="center"]INFORMACIÓN SOBRE EL EXAMEN CPE[/button]
URL:https://www.cein.eu/convocatorias-examenes/cambridge-cpe-c2/
CATEGORIES:Convocatorias
ATTACH;FMTTYPE=image/jpeg:https://www.cein.eu/wp-content/uploads/2015/12/CPE1-300x219-2.jpg
END:VEVENT
END:VCALENDAR